BEGIN:VCALENDAR
VERSION:2.0
PRODID:-//wp-events-plugin.com//7.2.3.1//EN
BEGIN:VEVENT
UID:34@akv-vriendenschaar.nl
DTSTART:20250605T230000Z
DTEND:20250608T230000Z
DTSTAMP:20250331T104638Z
URL:https://www.akv-vriendenschaar.nl/vriendenschaar/agenda/kamp-2025/
SUMMARY:Kamp 2025
DESCRIPTION:\n2025 EXPEDITIE K.A.M.P.\nOver iets meer dan twee maanden is h
 et zover\; dan gaan we weer op kamp! De voorbereidingen zijn inmiddels in 
 volle gang en ons 53e jeugdkamp zal dit jaar plaatsvinden in het Pinksterw
 eekend van 6 t/m 9 juni. We zullen daarvoor afreizen naar groepsaccommodat
 ie De Kiek in Alphen. Voor iedereen van de E\, D\, C en A!\n\nGroetjes van
  de Algemene Leiding!\nColiene\, Koen\, Lieke\, Marc\, Marit\, Melissa\, T
 ijn en Valerie\n\n&nbsp\;
CATEGORIES:Jeugd,Jeugdcommissie
END:VEVENT
END:VCALENDAR